BEGIN:VCALENDAR
VERSION:2.0
PRODID:-//YourOrganization//EventDownload//DE
CALSCALE:GREGORIAN
METHOD:PUBLISH
BEGIN:VEVENT
UID:69e61d23edcfc@www.leap-up.com
DTSTAMP:20260420T143339Z
DTSTART:20210330T093000Z
DTEND:20210330T163000Z
SUMMARY:1st Healthcare Summit and Conference Ghana – Germany
DESCRIPTION:Am 30. M&auml\;rz l&auml\;dt die Delegation der Deutschen Wirtschaft in Ghana (AHK Ghana) in Zusammenarbeit mit der Sonderinitiative Ausbildung und Besch&auml\;ftigung des Bundesministeriums f&uuml\;r wirtschaftliche Zusammenarbeit und Entwicklung (BMZ) zum &bdquo\;1. Healthcare Summit Ghana &ndash\; Germany&ldquo\; ein.\nDer Healthcare Summit Ghana-Germany&nbsp\;vernetzt ghanaische und deutsche Akteure aus der Gesundheitsbranche. Im Rahmen der virtuellen Konferenz und Messe k&ouml\;nnen sich Unternehmen kostenlos pr&auml\;sentieren und in den direkten Austausch mit potenziellen Gesch&auml\;ftspartnern treten.&nbsp\;\nInformationen und Anmeldung unter: https://www.ghana.ahk.de/events/event-details/1st-healthcare-summit-and-trade-fair-ghana-germany
END:VEVENT
END:VCALENDAR
