BEGIN:VCALENDAR
VERSION:2.0
PRODID:-//YourOrganization//EventDownload//DE
CALSCALE:GREGORIAN
METHOD:PUBLISH
BEGIN:VEVENT
UID:69ed48e0e321b@www.leap-up.com
DTSTAMP:20260426T010608Z
DTSTART:20260129T170000Z
DTEND:20260129T190000Z
SUMMARY:AI Round Table Life Sciences
DESCRIPTION:At the upcoming AI regulars' table at INNO3 InnoSpace\, we can look forward to practical\, interactive impulses: A multiple founder and managing director Björn Degenkolbe from 4K ANALYTICS will share his experiences and present concrete AI application examples from everyday business life.\nThe focus is on directly realisable impulses\, exchange and joint learning - no frontal presentation\, but active participation and discussion.\nWe are particularly pleased that employees from the entire HEALTH INNOVATORS GROUP Leipzig will be attending. The meeting thus deliberately offers space for cross-company exchange\, networking and a variety of perspectives on the use of AI in practice.\nRegister for the AI regulars' table here!\n \n 
LOCATION:InnoSpace\, Puschstraße 6a\, 04103 Leipzig
END:VEVENT
END:VCALENDAR
