BEGIN:VCALENDAR
VERSION:2.0
PRODID:-//YourOrganization//EventDownload//DE
CALSCALE:GREGORIAN
METHOD:PUBLISH
BEGIN:VEVENT
UID:69ebc7df5b24d@www.leap-up.com
DTSTAMP:20260424T214327Z
DTSTART:20251118T090000Z
DTEND:20251118T160000Z
SUMMARY:Auffrischungsschulung Betreiberqualifikation – Anlagensicherheit von Biogasanlagen gemäß TRGS 529 und TRAS 120
DESCRIPTION:Auffrischungsschulung Betreiberqualifikation Anlagensicherheit von Biogasanlagen gemäß TRGS 529 und TRAS 120 *\n*anerkannte Schulung im Rahmen des Unternehmermodells durch die Berufsgenossenschaften BG ETEM und SVLFG\nDie eintägige Auffrischungsschulung „Betreiberqualifikation – Anlagensicherheit von Biogasanlagen" nach dem bundesweiten Konzept des Schulungsverbundes Biogas berücksichtigt u.a. die Anforderungen der TRGS 529 und TRAS 120.\nWir richten besonderes Augenmerk auf den sicheren Betrieb von Biogasanlagen und gehen insbesondere auf die aktuellen Vorschriften in den Bereichen rechtlicher Rahmen\, Sicherheit sowie Dokumentation ein.\nBlock 1 – Theoretischer Teil\n\nAktuelle rechtliche Entwicklungen Änderungen im BImschG und ArbSchG.\, GefStoffV\, BetrSichV und BioStoffV\, Änderungen im WHG\, AwSV\nGrundlagen und aktuelle Entwicklungen zur TRGS 529 z.B.: Gefährdungsbeurteilung\, Technische und organisatorische Schutzmaßnahmen\, Persönliche Schutzausrüstung\, Fachliche Anforderungen an Arbeitgeber und Beschäftigte\, Arbeitsmedizinische und sicherheitstechnische Betreuung\, Arbeitsmedizinische Prävention\, Explosions- und Brandschutz\, Erste Hilfe und Notfallmaßnahmen\nGrundlagen und aktuelle Entwicklungen zur TRAS 120 z.B.: Aktuelle Entwicklungen bei Stand der Technik und Stand der Sicherheitstechnik: Sicherheitsrelevante Überwachung und Instandhaltung\, Schulung und Unterweisung von Mitarbeitenden\, Grundlagen der systematischen Gefahrenanalyse und des Sicherheitsmanagements\nKurzvorstellung Arbeitshilfen\, Merkblätter\, etc. Arbeitshilfen und Merkblätter des Fachverband Biogas\, DGUV Regelwerke\, VdS Leitlinienpapier\, Arbeitshilfen\, Dokumente\, etc. der Berufsgenossenschaften\n\nBlock 2 – Aus der Praxis für die Praxis\nIm Workshop werden bspw. Themen wie Schadensfälle und Instandhaltung diskutiert. Ausdrücklich wird der Diskussion eigener Themen und Fragestellungen aus der betrieblichen Praxis Raum gegeben.\nDen Teilnehmern werden der Kenntniserwerb und der Kenntnisnachweis (Multiple-Choice-Test) mit einem Zertifikat des Schulungsverbundes Biogas bestätigt.Präsenz-Schulung\nFür diese Schulung ist die persönliche Anwesenheit am Schulungsort notwendig. Der Schulungsort ist:\nSächsische Bildungsgesellschaft für Umweltschutz und Chemieberufe Dresden mbHGutenbergstraße 601307 DresdenKosten\n225\,00 € zzgl. 20\,00 € Prüfungsgebühr\, inkl. Seminarunterlagen und Verpflegung
LOCATION:Sächsische Bildungsgesellschaft für Umweltschutz und Chemieberufe Dresden mbH\, Gutenbergstraße 6\, 01307 Dresden
END:VEVENT
END:VCALENDAR
