BEGIN:VCALENDAR
VERSION:2.0
PRODID:-//YourOrganization//EventDownload//DE
CALSCALE:GREGORIAN
METHOD:PUBLISH
BEGIN:VEVENT
UID:69e6204f11d81@www.leap-up.com
DTSTAMP:20260420T144711Z
DTSTART:20211209T163000Z
DTEND:20211209T200000Z
SUMMARY:Gespräche der Zukunft 
DESCRIPTION:Die Veranstaltung von TechnologyMountains e. V. und MedicalMountains GmbH am 9. Dezember 2021 ist aktuell in Planung.\nWeitere Informationen finden Sie hier.
LOCATION:Kraftwerk Rottweil\, Neckartal 68\, 78628 Rottweil
END:VEVENT
END:VCALENDAR
