BEGIN:VCALENDAR
VERSION:2.0
PRODID:-//YourOrganization//EventDownload//DE
CALSCALE:GREGORIAN
METHOD:PUBLISH
BEGIN:VEVENT
UID:69e7518a0add8@www.leap-up.com
DTSTAMP:20260421T122930Z
DTSTART:20200129T090000Z
DTEND:20200130T163000Z
SUMMARY:Kunststoff trifft Elektronik
DESCRIPTION:Elektrotechnik/Elektronik (EuE) ist aus unserem Leben nicht mehr wegzudenken. Dies umfasst den IT-Bereich\, die Medizintechnik\, Haushaltsgeräte\, Elektrowerkzeuge sowie die gesamte Energietechnik und die (e)Mobilität. Elektronisierung ist ein Megatrend und erleichtert unser Leben.\nKunststoffe spielen bei der Entwicklung und Herstellung vieler EuE-Produkte eine wichtige Rolle. In der vom Kunststoff-Zentrum in Leipzig (KUZ) veranstalteten Fachkonferenz werden die speziellen Herausforderungen für den Einsatz von Kunststoffen in den verschiedenen EuE-Anwendungen\, wie IT und Displays\, der Mikroelektronik und Sensorik\, bei Steckverbindern sowie in der (e)Mobilität thematisiert.\nZiel der Veranstaltung ist es\, mit den Teilnehmern vielschichtige kunststofftechnische Lösungen für EuE zu diskutieren – ausgehend von den Compounds\, über die Spritzgießmaschine und den Herstellprozess bis hin zur erfolgreichen und meist komplexen Anwendung. Das breitgefächerte Vortragsprogramm bietet den Unternehmen der Kunststoff- und EuE-Branchen fachlichen Input und Anstöße zum Gedankenaustausch.\nDen Unternehmen der Kunststoff- und EuE-Branchen werden im Vortragsprogramm ein breitgefächerter fachlicher Input und Anstöße zum Gedankenaustausch geboten. Ein attraktives Rahmenprogramm mit der Fachausstellung\, mit Exkursionen zu renommierten Industrieunternehmen und der HTWK in Leipzig sowie einem interessanten Abendvortrag bietet breiten Raum für Ihren Erfahrungsaustausch\nDas KUZ und unser Veranstaltungspartner Silicon Saxony wünschen allen Teilnehmern interessante Gespräche und Inspirationen zu neuen Aufgaben und Produkten.
LOCATION:Kunststoff-Zentrum in Leipzig gGmbH\, Erich-Zeigner-Allee 44\, 04229 Leipzig
END:VEVENT
END:VCALENDAR
