BEGIN:VCALENDAR
VERSION:2.0
PRODID:-//YourOrganization//EventDownload//DE
CALSCALE:GREGORIAN
METHOD:PUBLISH
BEGIN:VEVENT
UID:69e5fd5c96bdd@www.leap-up.com
DTSTAMP:20260420T121804Z
DTSTART:20171201T173000Z
DTEND:20171201T220000Z
SUMMARY:Netzwerk Kunstglenk - 5. Netzwerktreffen
DESCRIPTION:Die Hüft- und Knie-Endoprothetik besitzt mit etwa 400 000 Operationen pro Jahr allein in Deutschland eine enorme medizinische und ökonomische Bedeutung. Mit dem im März 2013 gegründeten »Kunstgelenk - Netzwerk Endoprothetik« wollen wir dazu beitragen\, die Gelenk-Endoprothetik zukünftig noch sicherer\, erfolgreicher und effizienter zu gestalten.\nEin Leitgedanke besteht in der Anwendung bionischer Prinzipien und damit in einer perfekten Rekonstruktion der Anatomie. Um diese Ziele zu erreichen\, wollen wir innerhalb des Netzwerks die wissenschaftlichen Erkenntnisse der teilnehmenden Forschungseinrichtungen noch effektiver mit der Spitzentechnologie regionaler und überregionaler Wirtschaftsunternehmen zusammenführen.\nWir möchten Sie sehr herzlich zu einer Vortragsveranstaltung einladen\, die dem Schwerpunkt Bionik in der Hüftendoprothetik gewidmet ist. In den Referaten werden u. a. klinische und technologische Aspekte erläutert. Neben dem gegenwärtigen Entwicklungsstand sollen offene Fragen\, Herausforderungen\, Lösungsansätze und Perspektiven angesprochen werden.\nEs ist uns eine Freude\, dass wir für die Vorträge ausgewiesene Experten gewinnen konnten.\nWir freuen uns auf Ihr Kommen und interessante Diskussionen.
LOCATION:LINDNER Spa & Golf Hotel Weimarer Land\, Weimarer Straße 60\, 99444 Blankenhain
END:VEVENT
END:VCALENDAR
