BEGIN:VCALENDAR
VERSION:2.0
PRODID:-//YourOrganization//EventDownload//DE
CALSCALE:GREGORIAN
METHOD:PUBLISH
BEGIN:VEVENT
UID:69ebfe68cb1ed@www.leap-up.com
DTSTAMP:20260425T013608Z
DTSTART:20260602T000000Z
DTEND:20260603T000000Z
SUMMARY:SaxoCell-Konferenz über Zell- und Gentherapie
DESCRIPTION:Teilnahme an der SaxoCell Conference 2026 - Zell- und Gentherapien gemeinsam vorantreiben\nDie SaxoCell Conference 2026 ist Ihre Gelegenheit\, sich mit Experten\, Innovatoren und Entscheidungsträgern im Bereich der Zell- und Gentherapien auszutauschen. Als Teil der BMBF-Initiative Clusters4Future ist SaxoCell eines der führenden Zentren in Deutschland\, das sich der Erforschung neuer Anwendungen und Produktionsmethodenfür personalisierte Therapien und "lebende Medikamente" widmet. Was Sie erwartet:\n\nEinblicke in die neuesten wissenschaftlichen Fortschritte bei Zell- und Gentherapien.\nGelegenheiten zur Vernetzung mit Fachleuten aus Wissenschaft\, Industrie und Politik.\nDiskussionen darüber\, wie Deutschland zur Zukunft der Zell- und Gentherapie beiträgt.\nDatum: 02. bis 03. Juni 2026\nOrt: Penck Hotel\, Dresden\n\nOb Wissenschaftler\, Industrievertreter oder politische Entscheidungsträger\, die SaxoCell Conference bietet eine Plattform für den Austausch von Ideen und die Zusammenarbeit bei der Gestaltung der Zukunft des Gesundheitswesens.
LOCATION:Penck Hotel Dresden\, Ostra-Allee 33\, 01067 Dresden
END:VEVENT
END:VCALENDAR
